BEGIN:VCALENDAR
VERSION:2.0
PRODID:icalendar-ruby
CALSCALE:GREGORIAN
METHOD:PUBLISH
BEGIN:VEVENT
DTSTAMP:20260423T144814Z
UID:87-1606759@praisechapel158.tithelysetup5.com
DTSTART:20260426T220000Z
DTEND:20260427T020000Z
CLASS:PUBLIC
CREATED:20260419T104102
DESCRIPTION:Come out for a delicious meal to help support our Women's Minis
 try!\nOur menu:\n2 tacos (chicken or beef)\nChicken Chile verde\nEach plat
 e comes with rice\, beans &amp\; a drink for $12.\nSee the flyer for the a
 ddress and more details!
LAST-MODIFIED:20260419T104102
LOCATION:11683 Rancho Rd Suite 2\, Adelanto\, CA 92301
SUMMARY:Food Fundraiser 
URL;VALUE=URI:https://praisechapeladelanto.com/events/food-fundraiser/2026-
 04-26
ATTACH;FILENAME=1_20260414_123956_0000.png;FMTTYPE=image/png:https://dq5pwp
 g1q8ru0.cloudfront.net/2026/04/19/17/41/02/30448302-d997-4aef-965a-81b01cc
 578b4/1_20260414_123956_0000.png
END:VEVENT
END:VCALENDAR
